BEGIN:VCALENDAR
VERSION:2.0
PRODID:-//נוגה וידר - בונה מותגים שמשנים את החיים - ECPv5.3.0//NONSGML v1.0//EN
CALSCALE:GREGORIAN
METHOD:PUBLISH
X-WR-CALNAME:נוגה וידר - בונה מותגים שמשנים את החיים
X-ORIGINAL-URL:https://www.nogawiderschool.co.il
X-WR-CALDESC:אירועים ל נוגה וידר - בונה מותגים שמשנים את החיים
BEGIN:VTIMEZONE
TZID:Europe/Helsinki
BEGIN:DAYLIGHT
TZOFFSETFROM:+0200
TZOFFSETTO:+0300
TZNAME:EEST
DTSTART:20210328T010000
END:DAYLIGHT
BEGIN:STANDARD
TZOFFSETFROM:+0300
TZOFFSETTO:+0200
TZNAME:EET
DTSTART:20211031T010000
END:STANDARD
END:VTIMEZONE
BEGIN:VEVENT
DTSTART;TZID=Europe/Helsinki:20210608T150000
DTEND;TZID=Europe/Helsinki:20210608T200000
DTSTAMP:20210602T005738
CREATED:20210302T130631Z
LAST-MODIFIED:20210302T130631Z
UID:3205-1623164400-1623182400@www.nogawiderschool.co.il
SUMMARY:master-mind
DESCRIPTION:
URL:https://www.nogawiderschool.co.il/%d7%90%d7%99%d7%a8%d7%95%d7%a2/master-mind/2021-06-08/
END:VEVENT
END:VCALENDAR